BEGIN:VCALENDAR
VERSION:2.0
PRODID:-//The Ridge - ECPv6.15.20//NONSGML v1.0//EN
CALSCALE:GREGORIAN
METHOD:PUBLISH
X-WR-CALNAME:The Ridge
X-ORIGINAL-URL:https://theridgegolf.com
X-WR-CALDESC:Events for The Ridge
REFRESH-INTERVAL;VALUE=DURATION:PT1H
X-Robots-Tag:noindex
X-PUBLISHED-TTL:PT1H
BEGIN:VTIMEZONE
TZID:America/Toronto
BEGIN:DAYLIGHT
TZOFFSETFROM:-0500
TZOFFSETTO:-0400
TZNAME:EDT
DTSTART:20230312T070000
END:DAYLIGHT
BEGIN:STANDARD
TZOFFSETFROM:-0400
TZOFFSETTO:-0500
TZNAME:EST
DTSTART:20231105T060000
END:STANDARD
BEGIN:DAYLIGHT
TZOFFSETFROM:-0500
TZOFFSETTO:-0400
TZNAME:EDT
DTSTART:20240310T070000
END:DAYLIGHT
BEGIN:STANDARD
TZOFFSETFROM:-0400
TZOFFSETTO:-0500
TZNAME:EST
DTSTART:20241103T060000
END:STANDARD
BEGIN:DAYLIGHT
TZOFFSETFROM:-0500
TZOFFSETTO:-0400
TZNAME:EDT
DTSTART:20250309T070000
END:DAYLIGHT
BEGIN:STANDARD
TZOFFSETFROM:-0400
TZOFFSETTO:-0500
TZNAME:EST
DTSTART:20251102T060000
END:STANDARD
BEGIN:DAYLIGHT
TZOFFSETFROM:-0500
TZOFFSETTO:-0400
TZNAME:EDT
DTSTART:20260308T070000
END:DAYLIGHT
BEGIN:STANDARD
TZOFFSETFROM:-0400
TZOFFSETTO:-0500
TZNAME:EST
DTSTART:20261101T060000
END:STANDARD
END:VTIMEZONE
BEGIN:VEVENT
DTSTART;VALUE=DATE:20250321
DTEND;VALUE=DATE:20250322
DTSTAMP:20260424T054547
CREATED:20250218T202621Z
LAST-MODIFIED:20250218T202621Z
UID:10000182-1742515200-1742601599@theridgegolf.com
SUMMARY:Dart Tournament
DESCRIPTION:
URL:https://theridgegolf.com/event/dart-tournament-4/
END:VEVENT
BEGIN:VEVENT
DTSTART;VALUE=DATE:20250321
DTEND;VALUE=DATE:20250322
DTSTAMP:20260424T054547
CREATED:20250127T151458Z
LAST-MODIFIED:20250220T162039Z
UID:10000056-1742515200-1742601599@theridgegolf.com
SUMMARY:Dart Tournament & Bourbon Specials
DESCRIPTION:
URL:https://theridgegolf.com/event/dart-tournament-bourbon-specials/
END:VEVENT
BEGIN:VEVENT
DTSTART;VALUE=DATE:20250317
DTEND;VALUE=DATE:20250318
DTSTAMP:20260424T054547
CREATED:20250127T151630Z
LAST-MODIFIED:20250127T151630Z
UID:10000062-1742169600-1742255999@theridgegolf.com
SUMMARY:ST. Patrick's Day Party
DESCRIPTION:
URL:https://theridgegolf.com/event/st-patricks-day-party-4/
END:VEVENT
BEGIN:VEVENT
DTSTART;TZID=America/Toronto:20250315T130000
DTEND;TZID=America/Toronto:20250315T160000
DTSTAMP:20260424T054547
CREATED:20250127T151531Z
LAST-MODIFIED:20250127T151531Z
UID:10000058-1742043600-1742054400@theridgegolf.com
SUMMARY:Private Event
DESCRIPTION:
URL:https://theridgegolf.com/event/private-event-10/
END:VEVENT
BEGIN:VEVENT
DTSTART;VALUE=DATE:20250315
DTEND;VALUE=DATE:20250316
DTSTAMP:20260424T054547
CREATED:20250218T202443Z
LAST-MODIFIED:20250218T202443Z
UID:10000181-1741996800-1742083199@theridgegolf.com
SUMMARY:Euchre Tournament
DESCRIPTION:
URL:https://theridgegolf.com/event/euchre-tournament-6/
END:VEVENT
BEGIN:VEVENT
DTSTART;VALUE=DATE:20250308
DTEND;VALUE=DATE:20250309
DTSTAMP:20260424T054547
CREATED:20250127T151605Z
LAST-MODIFIED:20250220T172532Z
UID:10000059-1741392000-1741478399@theridgegolf.com
SUMMARY:King of Clubs & Happy Hour
DESCRIPTION:
URL:https://theridgegolf.com/event/euchre-1pm-king-of-clubs/
END:VEVENT
BEGIN:VEVENT
DTSTART;VALUE=DATE:20250307
DTEND;VALUE=DATE:20250308
DTSTAMP:20260424T054547
CREATED:20250127T151435Z
LAST-MODIFIED:20250218T202400Z
UID:10000138-1741305600-1741391999@theridgegolf.com
SUMMARY:Make Up Day & Happy Hour
DESCRIPTION:Open Cornhole & Dart Boards\nHappy Hour Menu 3-6pm plus ½ priced apps!
URL:https://theridgegolf.com/event/team-euchre-happy-hour/
END:VEVENT
BEGIN:VEVENT
DTSTART;VALUE=DATE:20250301
DTEND;VALUE=DATE:20250302
DTSTAMP:20260424T054547
CREATED:20241218T160856Z
LAST-MODIFIED:20241218T160856Z
UID:10000130-1740787200-1740873599@theridgegolf.com
SUMMARY:House Bourbon Night
DESCRIPTION:
URL:https://theridgegolf.com/event/house-bourbon-night/
END:VEVENT
BEGIN:VEVENT
DTSTART;TZID=America/Toronto:20250228T180000
DTEND;TZID=America/Toronto:20250228T210000
DTSTAMP:20260424T054547
CREATED:20250122T164703Z
LAST-MODIFIED:20250122T164703Z
UID:10000137-1740765600-1740776400@theridgegolf.com
SUMMARY:Dart Tournament
DESCRIPTION:
URL:https://theridgegolf.com/event/dart-tournament-3/
END:VEVENT
BEGIN:VEVENT
DTSTART;VALUE=DATE:20250228
DTEND;VALUE=DATE:20250301
DTSTAMP:20260424T054547
CREATED:20241112T142141Z
LAST-MODIFIED:20241112T142141Z
UID:10000120-1740700800-1740787199@theridgegolf.com
SUMMARY:Pre-Lent Sampler Night
DESCRIPTION:﻿
URL:https://theridgegolf.com/event/pre-lent-sampler-night/
END:VEVENT
BEGIN:VEVENT
DTSTART;TZID=America/Toronto:20250222T130000
DTEND;TZID=America/Toronto:20250222T130000
DTSTAMP:20260424T054547
CREATED:20241112T142109Z
LAST-MODIFIED:20241112T142109Z
UID:10000119-1740229200-1740229200@theridgegolf.com
SUMMARY:Cornhole Tournament
DESCRIPTION:﻿
URL:https://theridgegolf.com/event/cornhole-tournament-5/
END:VEVENT
BEGIN:VEVENT
DTSTART;VALUE=DATE:20250222
DTEND;VALUE=DATE:20250223
DTSTAMP:20260424T054547
CREATED:20241218T160942Z
LAST-MODIFIED:20250121T172750Z
UID:10000131-1740182400-1740268799@theridgegolf.com
SUMMARY:National Margarita Day
DESCRIPTION:National Margarita Day is\nSaturday\, February 22nd\,\nand we’re bringing the fiesta and Cornhole to The Ridge Golf & Gardens!\n What’s Happening:\n\n$5 Margaritas on the rocks – Sip on your favorite refreshing drink all day!\n$10 Lunch Specials – Enjoy a burrito or quesadilla lunch special with chips that’ll leave you craving more. Choose between chicken & beef and fill up for just $10\nFun Tournaments:\n Cornhole Tournament starting at 1 PM\n\nRSVP now to secure your spot in the Cornhole Tournament!\nEmail Addy at events@theridgegolf.com to RSVP\nDon’t miss the fun – grab your friends\, raise a glass\, and let’s celebrate National Margarita Day in style!\nSee you at The Ridge!
URL:https://theridgegolf.com/event/national-margarita-day/
END:VEVENT
BEGIN:VEVENT
DTSTART;TZID=America/Toronto:20250221T180000
DTEND;TZID=America/Toronto:20250221T200000
DTSTAMP:20260424T054547
CREATED:20241112T142019Z
LAST-MODIFIED:20250122T164439Z
UID:10000118-1740160800-1740168000@theridgegolf.com
SUMMARY:Wine Glass Paint & Sip
DESCRIPTION:Get ready to relax\, sip\, and create at our Wine Glass Paint & Sip event on Friday\, February 21st from 6:00 PM to 8:00 PM at The Ridge Golf & Gardens!\nWhether you’re a seasoned artist or just looking for a fun night out\, this is your chance to unleash your inner creativity!\nEvent Details:\nDate: February 21st\nTime: 6:00 PM – 8:00 PM\nLocation: The Ridge Golf & Gardens\nGlass Painting Choice: Cherry Blossoms Colored\nCost: $55 per person (includes all painting materials and your first glass of wine or draft beer!)\nOur live instructor from Paint the Town will guide you step-by-step through creating your very own masterpiece. No art experience is needed—just bring yourself\, a great attitude\, and an appetite for fun!\nWhat’s Included:\n\nAll painting materials (brushes\, paint\, easels\, aprons)\nYour first glass of wine or draft beer\nCharcuterie for snacking\n\nSpace is limited\, and reservations are required\, so don’t wait!\nRSVP today by emailing events@theridgegolf.com\nWe can’t wait to see you there for a night of creativity\, laughter\, and holiday cheer!
URL:https://theridgegolf.com/event/glass-painting-wine-dessert/
END:VEVENT
BEGIN:VEVENT
DTSTART;TZID=America/Toronto:20250215T130000
DTEND;TZID=America/Toronto:20250215T130000
DTSTAMP:20260424T054547
CREATED:20241112T141916Z
LAST-MODIFIED:20250127T165552Z
UID:10000117-1739624400-1739624400@theridgegolf.com
SUMMARY:Couples Euchre Tournament
DESCRIPTION:Love is in the air at The Ridge Golf & Gardens\, and we’re excited to share our special plans for Valentine’s Weekend!\nWhether you’re in the mood for romantic desserts\, cocktails\, or a little friendly competition\, we’ve got something for you and your special someone.\n❤️ Friday\, February 14th – Couples Flight & Dessert Specials\nTime: 3 PM – 9 PM\nFlight Cost: $30 per couple\nIncludes cheese cakes\, little cup desserts\, and three Mini Dessert Cocktails to complement!\n\nDessert:\n\nCaramel or Chocolate Cheesecake\nStrawberry Crunch Cake in a Cup\n\n\nHappy Hour Specials:\n\nHalf-priced appetizers & draft beer!\n\n\n\nRSVP today by emailing events@theridgegolf.com\n Saturday\, February 15th – Couples Euchre Tournament\nTime: 1 PM\n\nJoin us for a fun-filled afternoon of Euchre!\nRSVP today by emailing events@theridgegolf.com with you and your Euchre partners name!\nFeaturing the King of Clubs Raffle with a grand prize of $2\,100!\n\n Valentine’s Day Dessert Cocktail Pairing\nIndulge in special dessert cocktails crafted to make your day extra sweet!\nDon’t miss this perfect opportunity to celebrate love and fun at The Ridge.\nWe can’t wait to see you there!
URL:https://theridgegolf.com/event/couples-euchre/
END:VEVENT
BEGIN:VEVENT
DTSTART;TZID=America/Toronto:20250214T190000
DTEND;TZID=America/Toronto:20250214T210000
DTSTAMP:20260424T054547
CREATED:20241112T141811Z
LAST-MODIFIED:20250127T165458Z
UID:10000116-1739559600-1739566800@theridgegolf.com
SUMMARY:Couples Flight & Dessert Specials
DESCRIPTION:Love is in the air at The Ridge Golf & Gardens\, and we’re excited to share our special plans for Valentine’s Weekend!\nWhether you’re in the mood for romantic desserts\, cocktails\, or a little friendly competition\, we’ve got something for you and your special someone.\n❤️ Friday\, February 14th – Couples Flight & Dessert Specials\nTime: 3 PM – 9 PM\nFlight Cost: $30 per couple\nIncludes cheese cakes\, little cup desserts\, and three Mini Dessert Cocktails to complement!\n\nDessert:\n\nCaramel or Chocolate Cheesecake\nStrawberry Crunch Cake in a Cup\n\n\nHappy Hour Specials:\n\nHalf-priced appetizers & draft beer!\n\n\n\nRSVP today by emailing events@theridgegolf.com\n Saturday\, February 15th – Couples Euchre Tournament\nTime: 1 PM\n\nJoin us for a fun-filled afternoon of Euchre!\nRSVP today by emailing events@theridgegolf.com with you and your Euchre partners name!\nFeaturing the King of Clubs Raffle with a grand prize of $2\,100!\n\n Valentine’s Day Dessert Cocktail Pairing\nIndulge in special dessert cocktails crafted to make your day extra sweet!\nDon’t miss this perfect opportunity to celebrate love and fun at The Ridge.\nWe can’t wait to see you there!
URL:https://theridgegolf.com/event/couples-cocktail-dessert-specials/
END:VEVENT
BEGIN:VEVENT
DTSTART;VALUE=DATE:20250208
DTEND;VALUE=DATE:20250209
DTSTAMP:20260424T054547
CREATED:20241010T161254Z
LAST-MODIFIED:20250122T154655Z
UID:10000106-1738972800-1739059199@theridgegolf.com
SUMMARY:Comedy Mentalist Anthony Anthony Prezutti
DESCRIPTION:Get ready for an unforgettable night of mind-blowing entertainment at The Ridge Golf & Gardens!\nWe are excited to host the incredible Comedy Mentalist\, Anthony Prezutti\, for a special nights of magic\, mind-reading\, and laughter.\nBUY TICKETS ONLINE\nSaturday\, February 8th: Adults-Only (21+)\nJoin us for an adults-only show featuring dirty jokes and more daring comedy!\n Date: Saturday\, February 8th\n️ Dinner: 6:00 PM | Show: 7:00 PM\n️ Tickets:\n\n$90 per couple\n$45 per person\n\n Specials: Cocktail and beer specials!\nAnthony brings a unique and modern type of show to the stage and takes pride in not following the typical mentalist path. He loves to use video as part of his shows which makes for a much more entertaining experience. Bringing guests up on to the stage is a must and sometimes the guests make for the best comedy. Anthony has opened for big names like AGT’s Sal The Voice Valentinetti\, The Uncle Louie Variety Show\, and Frank Santorelli from HBO’s The Sopranos. To learn more about our featured guest please visit his website HERE\nHurry – only 64 tickets available!\nThis is the perfect winter night out you won’t want to miss.\nBUY TICKETS ONLINE
URL:https://theridgegolf.com/event/comedy-mentalist-anthony-anthony-prezutti/
END:VEVENT
BEGIN:VEVENT
DTSTART;TZID=America/Toronto:20250201T180000
DTEND;TZID=America/Toronto:20250201T220000
DTSTAMP:20260424T054547
CREATED:20250106T175800Z
LAST-MODIFIED:20250106T175800Z
UID:10000136-1738432800-1738447200@theridgegolf.com
SUMMARY:Farewell Dry January
DESCRIPTION:Join us at The Ridge Golf & Gardens on Saturday\, February 1st\, for our Farewell Dry January event!\nRaise a glass to the new month with our drink specials:\n 10% off all drinks from 6 PM – 10 PM\n Members get 15% off\nSavor the evening with dinner and dessert specials designed to delight your taste buds.\nWhether you’re ready to toast with your favorite cocktail or just want to enjoy a night of great food and good company\, we can’t wait to see you there!\nMark your calendar and bring your friends—it’s going to be a night to remember!
URL:https://theridgegolf.com/event/farewell-dry-january/
END:VEVENT
BEGIN:VEVENT
DTSTART;VALUE=DATE:20250125
DTEND;VALUE=DATE:20250126
DTSTAMP:20260424T054547
CREATED:20241203T205135Z
LAST-MODIFIED:20250102T153421Z
UID:10000126-1737763200-1737849599@theridgegolf.com
SUMMARY:Euchre Tournament
DESCRIPTION:Check-in: 1pm \nStart Time: 2pm
URL:https://theridgegolf.com/event/euchre-tournament-5/
END:VEVENT
BEGIN:VEVENT
DTSTART;VALUE=DATE:20250124
DTEND;VALUE=DATE:20250125
DTSTAMP:20260424T054547
CREATED:20241112T141423Z
LAST-MODIFIED:20250106T170309Z
UID:10000115-1737676800-1737763199@theridgegolf.com
SUMMARY:Bourbon Tasting & More
DESCRIPTION:  \nJoin us on Friday\, January 24th at The Ridge Golf & Gardens for a special Bourbon Tasting Event featuring the finest offerings from Watershed Distillery\, including all-new bourbons.\nBuy Tickets online today: https://theridgegolf.com/product/bourbon-tasting/\n Be Among the First: The first 15 guests to arrive will receive a pour of one of our premium house bourbons before the official tasting begins. Arrival Time: 5pm — Appetizers Served at 6pm\nIndulge in:\nBourbon tastings from Watershed\nDelicious appetizers\, a crafted entrée and Dessert\nTickets:\n$50 per person\n$90 per couple\nSpaces are limited\, so secure your spot now and savor an evening of bourbon\, food\, and community!\nWe can’t wait to see you there!\nSHOP NOW
URL:https://theridgegolf.com/event/bourbon-tasting-more/
END:VEVENT
BEGIN:VEVENT
DTSTART;TZID=America/Toronto:20250117T180000
DTEND;TZID=America/Toronto:20250117T200000
DTSTAMP:20260424T054547
CREATED:20241217T190846Z
LAST-MODIFIED:20241217T191150Z
UID:10000129-1737136800-1737144000@theridgegolf.com
SUMMARY:Dart Tournament
DESCRIPTION:
URL:https://theridgegolf.com/event/dart-tournament-2/
END:VEVENT
BEGIN:VEVENT
DTSTART;TZID=America/Toronto:20250111T140000
DTEND;TZID=America/Toronto:20250111T160000
DTSTAMP:20260424T054547
CREATED:20241230T161339Z
LAST-MODIFIED:20241230T161339Z
UID:10000133-1736604000-1736611200@theridgegolf.com
SUMMARY:Individual Euchre Tournament
DESCRIPTION:Check-in: 1pm \nStart time: 2pm \n$10 per person \nRSVP by emailing events@theridgegolf.com
URL:https://theridgegolf.com/event/individual-euchre-tournament/
END:VEVENT
BEGIN:VEVENT
DTSTART;VALUE=DATE:20250111
DTEND;VALUE=DATE:20250112
DTSTAMP:20260424T054547
CREATED:20241203T205205Z
LAST-MODIFIED:20241203T205205Z
UID:10000127-1736553600-1736639999@theridgegolf.com
SUMMARY:King of Clubs
DESCRIPTION:
URL:https://theridgegolf.com/event/king-of-clubs/
END:VEVENT
BEGIN:VEVENT
DTSTART;TZID=America/Toronto:20250110T180000
DTEND;TZID=America/Toronto:20250110T200000
DTSTAMP:20260424T054547
CREATED:20241227T193758Z
LAST-MODIFIED:20241227T193758Z
UID:10000132-1736532000-1736539200@theridgegolf.com
SUMMARY:Cornhole Tournament
DESCRIPTION:
URL:https://theridgegolf.com/event/cornhole-tournament-6/
END:VEVENT
BEGIN:VEVENT
DTSTART;TZID=America/Toronto:20250103T180000
DTEND;TZID=America/Toronto:20250103T200000
DTSTAMP:20260424T054547
CREATED:20241112T141058Z
LAST-MODIFIED:20241216T170941Z
UID:10000114-1735927200-1735934400@theridgegolf.com
SUMMARY:Italy Night
DESCRIPTION:Looking for the perfect way to kick off the new year with your special someone or good friends?\nJoin us at The Ridge Golf & Gardens for an unforgettable Italy Date Night on January 3rd at 6 PM!\nIndulge in an authentic Italian dinner featuring:\n\nFresh salad and breadsticks\nA delicious choice of entrée\nScrumptious dessert\nA glass of wine or 1 draft beer to complement your meal\n\n$35 per person | $60 per couple\nWhether you’re looking for a romantic evening or a chance to experience Italian flavors in a cozy setting\, this event is designed for you.\nTickets are selling fast\, so make sure to buy yours online today!\nWe can’t wait to share this special evening with you!
URL:https://theridgegolf.com/event/italy-night-2/
END:VEVENT
BEGIN:VEVENT
DTSTART;VALUE=DATE:20250101
DTEND;VALUE=DATE:20250102
DTSTAMP:20260424T054547
CREATED:20241120T215055Z
LAST-MODIFIED:20241120T215055Z
UID:10000124-1735689600-1735775999@theridgegolf.com
SUMMARY:CLOSED FOR NEW YEARS
DESCRIPTION:The Ridge will be closed all day on New Years Day.
URL:https://theridgegolf.com/event/closed-for-new-years/
END:VEVENT
BEGIN:VEVENT
DTSTART;VALUE=DATE:20241231
DTEND;VALUE=DATE:20250101
DTSTAMP:20260424T054547
CREATED:20241120T214901Z
LAST-MODIFIED:20241120T214901Z
UID:10000122-1735603200-1735689599@theridgegolf.com
SUMMARY:Closing Early
DESCRIPTION:The Ridge will be closing early on December 31st at 6pm.
URL:https://theridgegolf.com/event/closing-early-2/
END:VEVENT
BEGIN:VEVENT
DTSTART;TZID=America/Toronto:20241228T130000
DTEND;TZID=America/Toronto:20241228T170000
DTSTAMP:20260424T054547
CREATED:20241206T171853Z
LAST-MODIFIED:20241206T171853Z
UID:10000128-1735390800-1735405200@theridgegolf.com
SUMMARY:Team Euchre Tournament
DESCRIPTION:Get ready for an exciting afternoon filled with cards\, camaraderie\, and competition! We’re thrilled to announce the Team Euchre Tournament happening at The Ridge Golf & Gardens on December 28th at 1pm.\nHere are the event details:\n\nDate: December 28th\, 2024\nTime: 1:00 PM Check-in — 2:00 PM Start Time\nLocation: The Ridge Golf & Gardens\nEntry Fee: $20 per team (paired event)\nRSVP: To secure your spot in the tournament\, kindly RSVP via email to events@theridgegolf.com with you and your partner’s name.\n\nGather your partner and showcase your Euchre skills for a chance to win exciting prizes!\nDon’t miss out on this fantastic opportunity to enjoy some Euchre and friendly competition! RSVP today to reserve your spot in the tournament.
URL:https://theridgegolf.com/event/team-euchre-tournament-2/
END:VEVENT
BEGIN:VEVENT
DTSTART;VALUE=DATE:20241224
DTEND;VALUE=DATE:20241226
DTSTAMP:20260424T054547
CREATED:20241120T215003Z
LAST-MODIFIED:20241120T215003Z
UID:10000123-1734998400-1735171199@theridgegolf.com
SUMMARY:CLOSED FOR CHRISTMAS
DESCRIPTION:The Ridge will be closed all day Christmas Eve and Christmas Day. Happy Holidays!
URL:https://theridgegolf.com/event/closed-for-christmas-2/
END:VEVENT
BEGIN:VEVENT
DTSTART;VALUE=DATE:20241215
DTEND;VALUE=DATE:20241216
DTSTAMP:20260424T054547
CREATED:20241203T205016Z
LAST-MODIFIED:20241203T205016Z
UID:10000125-1734220800-1734307199@theridgegolf.com
SUMMARY:Member Appreciation
DESCRIPTION:
URL:https://theridgegolf.com/event/member-appreciation/
END:VEVENT
BEGIN:VEVENT
DTSTART;VALUE=DATE:20241213
DTEND;VALUE=DATE:20241214
DTSTAMP:20260424T054547
CREATED:20241120T214820Z
LAST-MODIFIED:20241120T214820Z
UID:10000121-1734048000-1734134399@theridgegolf.com
SUMMARY:Closing Early
DESCRIPTION:The Ridge will be closing at 4pm on December 13th. The kitchen will be closed all day.
URL:https://theridgegolf.com/event/closing-early/
END:VEVENT
END:VCALENDAR