BEGIN:VCALENDAR
VERSION:2.0
PRODID:-//The Ridge - ECPv6.15.20//NONSGML v1.0//EN
CALSCALE:GREGORIAN
METHOD:PUBLISH
X-ORIGINAL-URL:https://theridgegolf.com
X-WR-CALDESC:Events for The Ridge
REFRESH-INTERVAL;VALUE=DURATION:PT1H
X-Robots-Tag:noindex
X-PUBLISHED-TTL:PT1H
BEGIN:VTIMEZONE
TZID:America/Toronto
BEGIN:DAYLIGHT
TZOFFSETFROM:-0500
TZOFFSETTO:-0400
TZNAME:EDT
DTSTART:20250309T070000
END:DAYLIGHT
BEGIN:STANDARD
TZOFFSETFROM:-0400
TZOFFSETTO:-0500
TZNAME:EST
DTSTART:20251102T060000
END:STANDARD
BEGIN:DAYLIGHT
TZOFFSETFROM:-0500
TZOFFSETTO:-0400
TZNAME:EDT
DTSTART:20260308T070000
END:DAYLIGHT
BEGIN:STANDARD
TZOFFSETFROM:-0400
TZOFFSETTO:-0500
TZNAME:EST
DTSTART:20261101T060000
END:STANDARD
BEGIN:DAYLIGHT
TZOFFSETFROM:-0500
TZOFFSETTO:-0400
TZNAME:EDT
DTSTART:20270314T070000
END:DAYLIGHT
BEGIN:STANDARD
TZOFFSETFROM:-0400
TZOFFSETTO:-0500
TZNAME:EST
DTSTART:20271107T060000
END:STANDARD
END:VTIMEZONE
BEGIN:VEVENT
DTSTART;VALUE=DATE:20260218
DTEND;VALUE=DATE:20260403
DTSTAMP:20260421T051048
CREATED:20260115T165108Z
LAST-MODIFIED:20260210T154629Z
UID:10000229-1771372800-1775174399@theridgegolf.com
SUMMARY:Lent
DESCRIPTION:As the season of Lent approaches\, The Ridge Golf & Gardens is proud to offer a special Lent Menu\, available Wednesday\, February 18th through Thursday\, April 2nd\, 2026.\nOpen to the public for Lunch & Dinner\nTuesday – Saturday: 12pm -9 pm\nSunday: 12-6pm\nLent is a time of reflection and tradition for many in our community\, often observed by enjoying meatless meals on certain days.\nAt The Ridge\, we’re happy to support these traditions by creating a thoughtfully crafted menu featuring flavorful seafood favorites and vegetarian options—so everyone can dine with comfort and confidence.\n2026 Lent Menu\nWhether you’re observing Lent or simply craving a great meal\, we invite you to join us at Mulligan’s and enjoy these seasonal favorites.\nWe look forward to serving you this Lenten season at The Ridge Golf & Gardens
URL:https://theridgegolf.com/event/lent/
ATTACH;FMTTYPE=image/jpeg:https://theridgegolf.com/wp-content/uploads/2026/01/image-47.jpg
END:VEVENT
BEGIN:VEVENT
DTSTART;TZID=America/Toronto:20260221T130000
DTEND;TZID=America/Toronto:20260221T130000
DTSTAMP:20260421T051048
CREATED:20260115T165159Z
LAST-MODIFIED:20260125T175537Z
UID:10000230-1771678800-1771678800@theridgegolf.com
SUMMARY:Blind Draw Steel Tip Dart Tournament
DESCRIPTION:Join Us for a great evening of Darts at The Ridge!\nMark your calendar for Saturday\, February 21st\, and head to The Ridge Golf & Gardens for an exciting Blind Draw Steel Tip Dart Tournament you won’t want to miss!\nDart Tournament\nCheck-in at 12 PM | Starts at 1:00 PM\n$10 buy-in per person\nRSVP for Darts:Email events@theridgegolf.com to secure your spot!\nWhether you’re aiming for the bullseye or just stopping by for great bourbon\, it’s going to be a fantastic evening.\nGrab your friends and join the fun!\nSee you on February 21st!
URL:https://theridgegolf.com/event/blind-dart-tournament-1pm-happy-hour/
ATTACH;FMTTYPE=image/jpeg:https://theridgegolf.com/wp-content/uploads/2026/01/image-43.jpg
END:VEVENT
END:VCALENDAR