BEGIN:VCALENDAR
VERSION:2.0
PRODID:-//The Ridge - ECPv6.15.20//NONSGML v1.0//EN
CALSCALE:GREGORIAN
METHOD:PUBLISH
X-ORIGINAL-URL:https://theridgegolf.com
X-WR-CALDESC:Events for The Ridge
REFRESH-INTERVAL;VALUE=DURATION:PT1H
X-Robots-Tag:noindex
X-PUBLISHED-TTL:PT1H
BEGIN:VTIMEZONE
TZID:America/Toronto
BEGIN:DAYLIGHT
TZOFFSETFROM:-0500
TZOFFSETTO:-0400
TZNAME:EDT
DTSTART:20240310T070000
END:DAYLIGHT
BEGIN:STANDARD
TZOFFSETFROM:-0400
TZOFFSETTO:-0500
TZNAME:EST
DTSTART:20241103T060000
END:STANDARD
BEGIN:DAYLIGHT
TZOFFSETFROM:-0500
TZOFFSETTO:-0400
TZNAME:EDT
DTSTART:20250309T070000
END:DAYLIGHT
BEGIN:STANDARD
TZOFFSETFROM:-0400
TZOFFSETTO:-0500
TZNAME:EST
DTSTART:20251102T060000
END:STANDARD
BEGIN:DAYLIGHT
TZOFFSETFROM:-0500
TZOFFSETTO:-0400
TZNAME:EDT
DTSTART:20260308T070000
END:DAYLIGHT
BEGIN:STANDARD
TZOFFSETFROM:-0400
TZOFFSETTO:-0500
TZNAME:EST
DTSTART:20261101T060000
END:STANDARD
END:VTIMEZONE
BEGIN:VEVENT
DTSTART;TZID=America/Toronto:20251018T153000
DTEND;TZID=America/Toronto:20251018T183000
DTSTAMP:20260423T091631
CREATED:20251008T182111Z
LAST-MODIFIED:20251008T182111Z
UID:10000210-1760801400-1760812200@theridgegolf.com
SUMMARY:Ohio State Football Watch Party
DESCRIPTION:Ohio State Football Watch Party:\nSaturday\, October 18th | Kickoff at 3:30 PM\nCome cheer on the Buckeyes as they take on Wisconsin!\nGrab your friends\, wear your scarlet and gray\, and settle in at The Ridge for the ultimate game day experience.\nGO BUCKEYES!!\nGame Day Specials\n\n25% OFF 12 or more wings during the game\n6 Packs of American Beer for only $23 during the game\nSelect Bourbon Discounts during every watch party!\n\nPlace your bets\, grab a seat\, and enjoy the action with us!\nOffers may vary throughout the year\nJust mention this ad to your server to get the discounts!\nSee you at The Ridge – where game day happens!
URL:https://theridgegolf.com/event/ohio-state-football-watch-party/
END:VEVENT
END:VCALENDAR